Package: netZooR Version: 1.8.0 Command: /home/biocbuild/R/R-beta-2024-04-15_r86425/bin/R CMD build --keep-empty-dirs --no-resave-data netZooR StartedAt: 2024-05-09 02:07:56 -0000 (Thu, 09 May 2024) EndedAt: 2024-05-09 02:10:04 -0000 (Thu, 09 May 2024) EllapsedTime: 127.2 seconds RetCode: 0 Status: OK PackageFile: netZooR_1.8.0.tar.gz PackageFileSize: 3.032 MiB