Package: netZooR Version: 1.8.0 Command: rm -rf netZooR.buildbin-libdir && mkdir netZooR.buildbin-libdir && /Users/biocbuild/BBS/utils/build-universal.sh netZooR_1.8.0.tar.gz /Library/Frameworks/R.framework/Resources/bin/R netZooR.buildbin-libdir StartedAt: 2024-06-11 12:19:49 -0400 (Tue, 11 Jun 2024) EndedAt: 2024-06-11 12:21:48 -0400 (Tue, 11 Jun 2024) EllapsedTime: 119.1 seconds RetCode: 0 Status: OK PackageFile: netZooR_1.8.0.tgz PackageFileSize: 3.728 MiB