Package: netZooR Version: 1.8.0 Command: rm -rf netZooR.buildbin-libdir && mkdir netZooR.buildbin-libdir && /Users/biocbuild/BBS/utils/build-universal.sh netZooR_1.8.0.tar.gz /Library/Frameworks/R.framework/Resources/bin/R netZooR.buildbin-libdir StartedAt: 2024-10-18 19:45:06 -0400 (Fri, 18 Oct 2024) EndedAt: 2024-10-18 19:46:35 -0400 (Fri, 18 Oct 2024) EllapsedTime: 88.7 seconds RetCode: 0 Status: OK PackageFile: netZooR_1.8.0.tgz PackageFileSize: 3.728 MiB