Package: netZooR Version: 1.8.0 Maintainer: Marouen Ben Guebila MaintainerEmail: marouen.b.guebila at gmail.com git_url: https://git.bioconductor.org/packages/netZooR git_branch: RELEASE_3_19 git_last_commit: 61e96b6 git_last_commit_date: 2024-04-30 11:39:26 -0400 (Tue, 30 Apr 2024)