Package: netSmooth Version: 1.24.0 Command: chmod a+r netSmooth -R && E:\biocbuild\bbs-3.19-bioc\R\bin\R.exe CMD build --keep-empty-dirs --no-resave-data netSmooth StartedAt: 2024-10-16 20:43:01 -0400 (Wed, 16 Oct 2024) EndedAt: 2024-10-16 20:45:26 -0400 (Wed, 16 Oct 2024) EllapsedTime: 144.8 seconds RetCode: 0 Status: OK PackageFile: netSmooth_1.24.0.tar.gz PackageFileSize: 2.685 MiB