Package: netSmooth Version: 1.24.0 Command: rm -rf netSmooth.buildbin-libdir && mkdir netSmooth.buildbin-libdir && E:\biocbuild\bbs-3.19-bioc\R\bin\R.exe CMD INSTALL --build --library=netSmooth.buildbin-libdir netSmooth_1.24.0.tar.gz StartedAt: 2024-10-17 08:15:43 -0400 (Thu, 17 Oct 2024) EndedAt: 2024-10-17 08:16:47 -0400 (Thu, 17 Oct 2024) EllapsedTime: 64.8 seconds RetCode: 0 Status: OK PackageFile: netSmooth_1.24.0.zip PackageFileSize: 3.719 MiB