Package: netSmooth Version: 1.24.0 Command: rm -rf netSmooth.buildbin-libdir && mkdir netSmooth.buildbin-libdir && /Users/biocbuild/BBS/utils/build-universal.sh netSmooth_1.24.0.tar.gz /Library/Frameworks/R.framework/Resources/bin/R netSmooth.buildbin-libdir StartedAt: 2024-10-18 19:45:01 -0400 (Fri, 18 Oct 2024) EndedAt: 2024-10-18 19:46:15 -0400 (Fri, 18 Oct 2024) EllapsedTime: 73.9 seconds RetCode: 0 Status: OK PackageFile: netSmooth_1.24.0.tgz PackageFileSize: 4.318 MiB