Package: netOmics Version: 1.10.0 Command: /home/biocbuild/bbs-3.19-bioc/R/bin/R CMD INSTALL netOmics StartedAt: 2024-10-16 16:41:22 -0400 (Wed, 16 Oct 2024) EndedAt: 2024-10-16 16:41:40 -0400 (Wed, 16 Oct 2024) EllapsedTime: 18.0 seconds RetCode: 0 Status: OK