Package: netOmics Version: 1.10.0 Command: /home/biocbuild/bbs-3.19-bioc/R/bin/R CMD build --keep-empty-dirs --no-resave-data netOmics StartedAt: 2024-10-16 19:47:02 -0400 (Wed, 16 Oct 2024) EndedAt: 2024-10-16 19:47:28 -0400 (Wed, 16 Oct 2024) EllapsedTime: 26.0 seconds RetCode: 1 Status: ERROR PackageFile: None PackageFileSize: NA