Package: netOmics Version: 1.10.0 Command: /Library/Frameworks/R.framework/Resources/bin/R CMD build --keep-empty-dirs --no-resave-data netOmics StartedAt: 2024-10-16 21:34:24 -0400 (Wed, 16 Oct 2024) EndedAt: 2024-10-16 21:35:43 -0400 (Wed, 16 Oct 2024) EllapsedTime: 78.7 seconds RetCode: 1 Status: ERROR PackageFile: None PackageFileSize: NA