Package: netOmics Version: 1.9.3 Command: rm -rf netOmics.buildbin-libdir && mkdir netOmics.buildbin-libdir && /Users/biocbuild/BBS/utils/build-universal.sh netOmics_1.9.3.tar.gz /Library/Frameworks/R.framework/Resources/bin/R netOmics.buildbin-libdir StartedAt: 2024-03-02 14:00:39 -0500 (Sat, 02 Mar 2024) EndedAt: 2024-03-02 14:01:31 -0500 (Sat, 02 Mar 2024) EllapsedTime: 51.5 seconds RetCode: 0 Status: OK PackageFile: netOmics_1.9.3.tgz PackageFileSize: 1.964 MiB