Package: netOmics Version: 1.10.0 Command: /Library/Frameworks/R.framework/Resources/bin/R CMD build --keep-empty-dirs --no-resave-data netOmics StartedAt: 2024-10-17 05:35:29 -0400 (Thu, 17 Oct 2024) EndedAt: 2024-10-17 05:36:05 -0400 (Thu, 17 Oct 2024) EllapsedTime: 36.3 seconds RetCode: 1 Status: ERROR PackageFile: None PackageFileSize: NA