Package: netOmics Version: 1.10.0 Maintainer: Antoine Bodein MaintainerEmail: antoine.bodein.1 at ulaval.ca git_url: https://git.bioconductor.org/packages/netOmics git_branch: RELEASE_3_19 git_last_commit: a7d8bd7 git_last_commit_date: 2024-04-30 11:38:48 -0400 (Tue, 30 Apr 2024)