Package: netDx Version: 1.16.0 Command: /home/biocbuild/bbs-3.19-bioc/R/bin/R CMD build --keep-empty-dirs --no-resave-data netDx StartedAt: 2024-10-16 19:46:42 -0400 (Wed, 16 Oct 2024) EndedAt: 2024-10-16 20:07:03 -0400 (Wed, 16 Oct 2024) EllapsedTime: 1221.1 seconds RetCode: 0 Status: OK PackageFile: netDx_1.16.0.tar.gz PackageFileSize: 3.406 MiB