Package: netDx Version: 1.16.0 Command: /Library/Frameworks/R.framework/Resources/bin/R CMD INSTALL netDx StartedAt: 2024-10-16 16:22:57 -0400 (Wed, 16 Oct 2024) EndedAt: 2024-10-16 16:24:09 -0400 (Wed, 16 Oct 2024) EllapsedTime: 71.8 seconds RetCode: 0 Status: OK