Package: netDx Version: 1.16.0 Command: /Library/Frameworks/R.framework/Resources/bin/R CMD build --keep-empty-dirs --no-resave-data netDx StartedAt: 2024-10-16 21:34:11 -0400 (Wed, 16 Oct 2024) EndedAt: 2024-10-16 21:42:20 -0400 (Wed, 16 Oct 2024) EllapsedTime: 488.4 seconds RetCode: 1 Status: ERROR PackageFile: None PackageFileSize: NA