Package: netDx Version: 1.16.0 Command: /home/biocbuild/R/R-beta-2024-04-15_r86425/bin/R CMD build --keep-empty-dirs --no-resave-data netDx StartedAt: 2024-05-09 02:06:35 -0000 (Thu, 09 May 2024) EndedAt: 2024-05-09 02:24:45 -0000 (Thu, 09 May 2024) EllapsedTime: 1089.7 seconds RetCode: 0 Status: OK PackageFile: netDx_1.16.0.tar.gz PackageFileSize: 3.329 MiB