Package: nempi Version: 1.12.0 Command: chmod a+r nempi -R && F:\biocbuild\bbs-3.19-bioc\R\bin\R.exe CMD build --keep-empty-dirs --no-resave-data nempi StartedAt: 2024-06-26 20:28:13 -0400 (Wed, 26 Jun 2024) EndedAt: 2024-06-26 20:29:55 -0400 (Wed, 26 Jun 2024) EllapsedTime: 102.6 seconds RetCode: 0 Status: OK PackageFile: nempi_1.12.0.tar.gz PackageFileSize: 373.1 KiB