Package: nempi Version: 1.12.0 Command: /home/biocbuild/bbs-3.19-bioc/R/bin/R CMD INSTALL nempi StartedAt: 2024-10-16 16:41:42 -0400 (Wed, 16 Oct 2024) EndedAt: 2024-10-16 16:41:58 -0400 (Wed, 16 Oct 2024) EllapsedTime: 15.4 seconds RetCode: 0 Status: OK