Package: nempi Version: 1.12.0 Command: /Library/Frameworks/R.framework/Resources/bin/R CMD INSTALL nempi StartedAt: 2024-10-16 18:38:34 -0400 (Wed, 16 Oct 2024) EndedAt: 2024-10-16 18:38:53 -0400 (Wed, 16 Oct 2024) EllapsedTime: 18.7 seconds RetCode: 0 Status: OK