Package: nempi Version: 1.12.0 Command: /Library/Frameworks/R.framework/Resources/bin/R CMD build --keep-empty-dirs --no-resave-data nempi StartedAt: 2024-10-17 05:32:59 -0400 (Thu, 17 Oct 2024) EndedAt: 2024-10-17 05:33:52 -0400 (Thu, 17 Oct 2024) EllapsedTime: 53.4 seconds RetCode: 0 Status: OK PackageFile: nempi_1.12.0.tar.gz PackageFileSize: 602.8 KiB