Package: nempi Version: 1.12.0 Command: rm -rf nempi.buildbin-libdir && mkdir nempi.buildbin-libdir && /Users/biocbuild/BBS/utils/build-universal.sh nempi_1.12.0.tar.gz /Library/Frameworks/R.framework/Resources/bin/R nempi.buildbin-libdir StartedAt: 2024-10-18 19:44:04 -0400 (Fri, 18 Oct 2024) EndedAt: 2024-10-18 19:44:30 -0400 (Fri, 18 Oct 2024) EllapsedTime: 25.1 seconds RetCode: 0 Status: OK PackageFile: nempi_1.12.0.tgz PackageFileSize: 652 KiB