Package: nearBynding Version: 1.14.0 Command: E:\biocbuild\bbs-3.19-bioc\R\bin\R.exe CMD INSTALL nearBynding StartedAt: 2024-10-16 16:32:23 -0400 (Wed, 16 Oct 2024) EndedAt: 2024-10-16 16:33:20 -0400 (Wed, 16 Oct 2024) EllapsedTime: 56.7 seconds RetCode: 0 Status: OK