Package: nearBynding Version: 1.14.0 Command: chmod a+r nearBynding -R && E:\biocbuild\bbs-3.19-bioc\R\bin\R.exe CMD build --keep-empty-dirs --no-resave-data nearBynding StartedAt: 2024-10-16 20:41:39 -0400 (Wed, 16 Oct 2024) EndedAt: 2024-10-16 20:43:20 -0400 (Wed, 16 Oct 2024) EllapsedTime: 100.2 seconds RetCode: 0 Status: OK PackageFile: nearBynding_1.14.0.tar.gz PackageFileSize: 3.347 MiB