Package: nearBynding Version: 1.14.0 Command: rm -rf nearBynding.buildbin-libdir && mkdir nearBynding.buildbin-libdir && E:\biocbuild\bbs-3.19-bioc\R\bin\R.exe CMD INSTALL --build --library=nearBynding.buildbin-libdir nearBynding_1.14.0.tar.gz StartedAt: 2024-10-17 08:15:14 -0400 (Thu, 17 Oct 2024) EndedAt: 2024-10-17 08:16:11 -0400 (Thu, 17 Oct 2024) EllapsedTime: 56.4 seconds RetCode: 0 Status: OK PackageFile: nearBynding_1.14.0.zip PackageFileSize: 3.178 MiB