Package: nearBynding Version: 1.14.0 Command: /home/biocbuild/bbs-3.19-bioc/R/bin/R CMD INSTALL nearBynding StartedAt: 2024-10-16 16:10:28 -0400 (Wed, 16 Oct 2024) EndedAt: 2024-10-16 16:11:05 -0400 (Wed, 16 Oct 2024) EllapsedTime: 36.9 seconds RetCode: 0 Status: OK