Package: nearBynding Version: 1.14.0 Command: /home/biocbuild/bbs-3.19-bioc/R/bin/R CMD build --keep-empty-dirs --no-resave-data nearBynding StartedAt: 2024-10-16 19:45:46 -0400 (Wed, 16 Oct 2024) EndedAt: 2024-10-16 19:47:02 -0400 (Wed, 16 Oct 2024) EllapsedTime: 75.1 seconds RetCode: 0 Status: OK PackageFile: nearBynding_1.14.0.tar.gz PackageFileSize: 3.343 MiB