Package: ndexr Version: 1.26.0 Command: rm -rf ndexr.buildbin-libdir && mkdir ndexr.buildbin-libdir && E:\biocbuild\bbs-3.19-bioc\R\bin\R.exe CMD INSTALL --build --library=ndexr.buildbin-libdir ndexr_1.26.0.tar.gz StartedAt: 2024-10-17 08:15:12 -0400 (Thu, 17 Oct 2024) EndedAt: 2024-10-17 08:15:41 -0400 (Thu, 17 Oct 2024) EllapsedTime: 29.5 seconds RetCode: 0 Status: OK PackageFile: ndexr_1.26.0.zip PackageFileSize: 622.9 KiB