Package: ndexr Version: 1.26.0 Command: /Library/Frameworks/R.framework/Resources/bin/R CMD check --install=check:ndexr.install-out.txt --library=/Library/Frameworks/R.framework/Resources/library --no-vignettes --timings ndexr_1.26.0.tar.gz StartedAt: 2024-06-09 21:51:31 -0400 (Sun, 09 Jun 2024) EndedAt: 2024-06-09 21:53:03 -0400 (Sun, 09 Jun 2024) EllapsedTime: 91.5 seconds RetCode: 0 Status: OK CheckDir: ndexr.Rcheck Warnings: 0