Package: ndexr Version: 1.26.0 Command: /Library/Frameworks/R.framework/Resources/bin/R CMD INSTALL ndexr StartedAt: 2024-10-16 15:51:30 -0400 (Wed, 16 Oct 2024) EndedAt: 2024-10-16 15:51:33 -0400 (Wed, 16 Oct 2024) EllapsedTime: 3.4 seconds RetCode: 0 Status: OK