Package: ndexr Version: 1.26.0 Command: /Library/Frameworks/R.framework/Resources/bin/R CMD build --keep-empty-dirs --no-resave-data ndexr StartedAt: 2024-10-17 05:32:17 -0400 (Thu, 17 Oct 2024) EndedAt: 2024-10-17 05:32:31 -0400 (Thu, 17 Oct 2024) EllapsedTime: 14.9 seconds RetCode: 0 Status: OK PackageFile: ndexr_1.26.0.tar.gz PackageFileSize: 947 KiB