Package: ncdfFlow Version: 2.50.0 Command: F:\biocbuild\bbs-3.19-bioc\R\bin\R.exe CMD INSTALL ncdfFlow StartedAt: 2024-06-26 15:46:25 -0400 (Wed, 26 Jun 2024) EndedAt: 2024-06-26 15:47:04 -0400 (Wed, 26 Jun 2024) EllapsedTime: 38.9 seconds RetCode: 0 Status: OK