Package: ncdfFlow Version: 2.50.0 Command: chmod a+r ncdfFlow -R && F:\biocbuild\bbs-3.19-bioc\R\bin\R.exe CMD build --keep-empty-dirs --no-resave-data ncdfFlow StartedAt: 2024-06-26 20:26:38 -0400 (Wed, 26 Jun 2024) EndedAt: 2024-06-26 20:27:45 -0400 (Wed, 26 Jun 2024) EllapsedTime: 66.8 seconds RetCode: 0 Status: OK PackageFile: ncdfFlow_2.50.0.tar.gz PackageFileSize: 184.7 KiB