Package: ncdfFlow Version: 2.50.0 Command: /home/biocbuild/R/R-beta-2024-04-15_r86425/bin/R CMD build --keep-empty-dirs --no-resave-data ncdfFlow StartedAt: 2024-05-09 02:04:41 -0000 (Thu, 09 May 2024) EndedAt: 2024-05-09 02:05:15 -0000 (Thu, 09 May 2024) EllapsedTime: 34.0 seconds RetCode: 0 Status: OK PackageFile: ncdfFlow_2.50.0.tar.gz PackageFileSize: 178.9 KiB