Package: ncdfFlow Version: 2.50.0 Command: rm -rf ncdfFlow.buildbin-libdir && mkdir ncdfFlow.buildbin-libdir && /Users/biocbuild/BBS/utils/build-universal.sh ncdfFlow_2.50.0.tar.gz /Library/Frameworks/R.framework/Resources/bin/R ncdfFlow.buildbin-libdir StartedAt: 2024-06-11 12:18:02 -0400 (Tue, 11 Jun 2024) EndedAt: 2024-06-11 12:18:34 -0400 (Tue, 11 Jun 2024) EllapsedTime: 32.1 seconds RetCode: 0 Status: OK PackageFile: ncdfFlow_2.50.0.tgz PackageFileSize: 1.757 MiB