Package: ncdfFlow Version: 2.50.0 Maintainer: Mike Jiang MaintainerEmail: mike at ozette.com git_url: https://git.bioconductor.org/packages/ncdfFlow git_branch: RELEASE_3_19 git_last_commit: c0217da git_last_commit_date: 2024-04-30 10:26:17 -0400 (Tue, 30 Apr 2024)