Package: ncRNAtools Version: 1.14.0 Command: rm -rf ncRNAtools.buildbin-libdir && mkdir ncRNAtools.buildbin-libdir && F:\biocbuild\bbs-3.19-bioc\R\bin\R.exe CMD INSTALL --build --library=ncRNAtools.buildbin-libdir ncRNAtools_1.14.0.tar.gz StartedAt: 2024-06-27 08:35:25 -0400 (Thu, 27 Jun 2024) EndedAt: 2024-06-27 08:35:44 -0400 (Thu, 27 Jun 2024) EllapsedTime: 19.6 seconds RetCode: 0 Status: OK PackageFile: ncRNAtools_1.14.0.zip PackageFileSize: 367.2 KiB