Package: ncRNAtools Version: 1.14.0 Command: /Library/Frameworks/R.framework/Resources/bin/R CMD build --keep-empty-dirs --no-resave-data ncRNAtools StartedAt: 2024-10-16 21:33:00 -0400 (Wed, 16 Oct 2024) EndedAt: 2024-10-16 21:34:26 -0400 (Wed, 16 Oct 2024) EllapsedTime: 85.3 seconds RetCode: 0 Status: OK PackageFile: ncRNAtools_1.14.0.tar.gz PackageFileSize: 318.4 KiB