Package: ncRNAtools Version: 1.14.0 Command: rm -rf ncRNAtools.buildbin-libdir && mkdir ncRNAtools.buildbin-libdir && /Users/biocbuild/BBS/utils/build-universal.sh ncRNAtools_1.14.0.tar.gz /Library/Frameworks/R.framework/Resources/bin/R ncRNAtools.buildbin-libdir StartedAt: 2024-10-17 16:43:20 -0400 (Thu, 17 Oct 2024) EndedAt: 2024-10-17 16:43:52 -0400 (Thu, 17 Oct 2024) EllapsedTime: 31.0 seconds RetCode: 0 Status: OK PackageFile: ncRNAtools_1.14.0.tgz PackageFileSize: 390.7 KiB