Package: ncRNAtools Version: 1.14.0 Command: /home/biocbuild/R/R-beta-2024-04-15_r86425/bin/R CMD build --keep-empty-dirs --no-resave-data ncRNAtools StartedAt: 2024-05-09 02:05:09 -0000 (Thu, 09 May 2024) EndedAt: 2024-05-09 02:06:07 -0000 (Thu, 09 May 2024) EllapsedTime: 58.1 seconds RetCode: 0 Status: OK PackageFile: ncRNAtools_1.14.0.tar.gz PackageFileSize: 308.5 KiB