Package: ncGTW Version: 1.18.0 Command: chmod a+r ncGTW -R && E:\biocbuild\bbs-3.19-bioc\R\bin\R.exe CMD build --keep-empty-dirs --no-resave-data ncGTW StartedAt: 2024-10-16 20:40:31 -0400 (Wed, 16 Oct 2024) EndedAt: 2024-10-16 20:45:02 -0400 (Wed, 16 Oct 2024) EllapsedTime: 270.9 seconds RetCode: 0 Status: OK PackageFile: ncGTW_1.18.0.tar.gz PackageFileSize: 1.646 MiB