Package: ncGTW Version: 1.18.0 Command: F:\biocbuild\bbs-3.19-bioc\R\bin\R.exe CMD INSTALL ncGTW StartedAt: 2024-06-26 16:28:59 -0400 (Wed, 26 Jun 2024) EndedAt: 2024-06-26 16:30:33 -0400 (Wed, 26 Jun 2024) EllapsedTime: 94.2 seconds RetCode: 0 Status: OK