Package: ncGTW Version: 1.18.0 Command: /Library/Frameworks/R.framework/Resources/bin/R CMD INSTALL ncGTW StartedAt: 2024-10-16 16:13:47 -0400 (Wed, 16 Oct 2024) EndedAt: 2024-10-16 16:16:11 -0400 (Wed, 16 Oct 2024) EllapsedTime: 143.3 seconds RetCode: 0 Status: OK