Package: ncGTW Version: 1.18.0 Command: rm -rf ncGTW.buildbin-libdir && mkdir ncGTW.buildbin-libdir && /Users/biocbuild/BBS/utils/build-universal.sh ncGTW_1.18.0.tar.gz /Library/Frameworks/R.framework/Resources/bin/R ncGTW.buildbin-libdir StartedAt: 2024-06-10 00:29:41 -0400 (Mon, 10 Jun 2024) EndedAt: 2024-06-10 00:31:11 -0400 (Mon, 10 Jun 2024) EllapsedTime: 89.8 seconds RetCode: 0 Status: OK PackageFile: ncGTW_1.18.0.tgz PackageFileSize: 2.107 MiB