Package: ncGTW Version: 1.18.0 Command: rm -rf ncGTW.buildbin-libdir && mkdir ncGTW.buildbin-libdir && /Users/biocbuild/BBS/utils/build-universal.sh ncGTW_1.18.0.tar.gz /Library/Frameworks/R.framework/Resources/bin/R ncGTW.buildbin-libdir StartedAt: 2024-06-11 12:18:10 -0400 (Tue, 11 Jun 2024) EndedAt: 2024-06-11 12:20:19 -0400 (Tue, 11 Jun 2024) EllapsedTime: 129.4 seconds RetCode: 0 Status: OK PackageFile: ncGTW_1.18.0.tgz PackageFileSize: 2.105 MiB