Package: ncGTW Version: 1.18.0 Command: rm -rf ncGTW.buildbin-libdir && mkdir ncGTW.buildbin-libdir && /Users/biocbuild/BBS/utils/build-universal.sh ncGTW_1.18.0.tar.gz /Library/Frameworks/R.framework/Resources/bin/R ncGTW.buildbin-libdir StartedAt: 2024-10-18 19:43:15 -0400 (Fri, 18 Oct 2024) EndedAt: 2024-10-18 19:44:48 -0400 (Fri, 18 Oct 2024) EllapsedTime: 92.4 seconds RetCode: 0 Status: OK PackageFile: ncGTW_1.18.0.tgz PackageFileSize: 2.102 MiB