Package: nanotatoR Version: 1.20.0 Maintainer: Surajit Bhattacharya MaintainerEmail: sbhattach2 at childrensnational.org git_url: https://git.bioconductor.org/packages/nanotatoR git_branch: RELEASE_3_19 git_last_commit: 7395523 git_last_commit_date: 2024-04-30 11:14:34 -0400 (Tue, 30 Apr 2024)