Package: mzR Version: 2.38.0 Command: rm -rf mzR.buildbin-libdir && mkdir mzR.buildbin-libdir && E:\biocbuild\bbs-3.19-bioc\R\bin\R.exe CMD INSTALL --build --library=mzR.buildbin-libdir mzR_2.38.0.tar.gz StartedAt: 2024-10-17 08:14:30 -0400 (Thu, 17 Oct 2024) EndedAt: 2024-10-17 08:29:57 -0400 (Thu, 17 Oct 2024) EllapsedTime: 926.7 seconds RetCode: 0 Status: OK PackageFile: mzR_2.38.0.zip PackageFileSize: 3.749 MiB