Package: mzR Version: 2.38.0 Command: /Library/Frameworks/R.framework/Resources/bin/R CMD check --install=check:mzR.install-out.txt --library=/Library/Frameworks/R.framework/Resources/library --no-vignettes --timings mzR_2.38.0.tar.gz StartedAt: 2024-10-17 09:52:48 -0400 (Thu, 17 Oct 2024) EndedAt: 2024-10-17 09:56:34 -0400 (Thu, 17 Oct 2024) EllapsedTime: 225.6 seconds RetCode: 0 Status: WARNINGS CheckDir: mzR.Rcheck Warnings: 2