Package: mzR Version: 2.38.0 Command: /Library/Frameworks/R.framework/Resources/bin/R CMD build --keep-empty-dirs --no-resave-data mzR StartedAt: 2024-06-10 01:30:51 -0400 (Mon, 10 Jun 2024) EndedAt: 2024-06-10 01:40:29 -0400 (Mon, 10 Jun 2024) EllapsedTime: 577.8 seconds RetCode: 0 Status: OK PackageFile: mzR_2.38.0.tar.gz PackageFileSize: 7.319 MiB